BEGIN:VCALENDAR
VERSION:2.0
PRODID:-//CGD Dornbirn - ECPv4.6.17//NONSGML v1.0//EN
CALSCALE:GREGORIAN
METHOD:PUBLISH
X-WR-CALNAME:CGD Dornbirn
X-ORIGINAL-URL:https://www.cgd.at
X-WR-CALDESC:Veranstaltungen für CGD Dornbirn
BEGIN:VEVENT
DTSTART;TZID=Europe/Berlin:20260403T200000
DTEND;TZID=Europe/Berlin:20260403T210000
DTSTAMP:20260419T132716
CREATED:20260121T032009Z
LAST-MODIFIED:20260121T032009Z
UID:12278-1775246400-1775250000@www.cgd.at
SUMMARY:Karfreitagsandacht
DESCRIPTION:Wir gedenken des Leidens und Sterbens Jesu am Kreuz.\n  \n  \n  \nBild von hnance auf Pixabay\n  \n  \n  \n
URL:https://www.cgd.at/termin/karfreitagsandacht-4/
LOCATION:Höchsterstraße 30\, Dornbirn\, 6850\, Österreich
CATEGORIES:Andacht am Karfreitag
ATTACH;FMTTYPE=image/jpeg:https://www.cgd.at/wp-content/uploads/2026/01/Dornenkrone-Bild-von-hnance-auf-Pixabay.jpg
END:VEVENT
BEGIN:VEVENT
DTSTART;TZID=Europe/Berlin:20260404T180000
DTEND;TZID=Europe/Berlin:20260404T220000
DTSTAMP:20260419T132716
CREATED:20260121T015718Z
LAST-MODIFIED:20260227T034003Z
UID:12226-1775325600-1775340000@www.cgd.at
SUMMARY:Jugendgruppe
DESCRIPTION:Wir treffen uns alle 2 Wochen zum Leben teilen\, Spaß haben\, einander und Gott besser kennen zu lernen. Sei dabei\, wir freuen uns auf Dich! \nWenn Du nichts mit verstaubter\, theoretischer Religion anfangen kannst\, bist Du bei uns genau richtig! Weil: Jesus redet nicht von Religion\, sondern behauptet\, dass er selbst DAS LEBEN ist und fordert uns heraus\, bei ihm DAS Leben zu finden (sozusagen ist das Leben ohne ihn ein Bluff). Was meint er damit und wie schaut das aus? Diesen und anderen Fragen wollen wir zusammen auf den Grund gehen. \nAb 13 Jahren \nFragen? Dann ruf kurz an oder schick uns eine Nachricht: \nGeorg Hämmerle\, Tel. +43 (0)660 5495203 \n  \n  \n \n  \n  \n
URL:https://www.cgd.at/termin/jugendgruppe-60/
CATEGORIES:Jugend
ATTACH;FMTTYPE=image/jpeg:https://www.cgd.at/wp-content/uploads/2026/01/Bild-HP-CGD-Jugend-2026.jpg
END:VEVENT
BEGIN:VEVENT
DTSTART;TZID=Europe/Berlin:20260405T093000
DTEND;TZID=Europe/Berlin:20260405T110000
DTSTAMP:20260419T132716
CREATED:20260121T032638Z
LAST-MODIFIED:20260121T032638Z
UID:12283-1775381400-1775386800@www.cgd.at
SUMMARY:Ostergottesdienst
DESCRIPTION:Gottesdienstleitung: Günter T. \nPredigt: Christopher W. \n  \n  \n  \n  \n  \n  \nBild von dozemode auf Pixabay \n  \n  \n  \n  \n
URL:https://www.cgd.at/termin/ostergottesdienst-4/
LOCATION:Höchsterstraße 30\, Dornbirn\, 6850\, Österreich
CATEGORIES:Gottesdienst
ATTACH;FMTTYPE=image/jpeg:https://www.cgd.at/wp-content/uploads/2026/01/Offenes-Grab-Bild-von-dozemode-auf-Pixabay.jpg
END:VEVENT
BEGIN:VEVENT
DTSTART;TZID=Europe/Berlin:20260411T140000
DTEND;TZID=Europe/Berlin:20260411T170000
DTSTAMP:20260419T132716
CREATED:20260227T030214Z
LAST-MODIFIED:20260227T030214Z
UID:12335-1775916000-1775926800@www.cgd.at
SUMMARY:Jungschar 2026
DESCRIPTION:Jungschar ist spitze! Und unser Gott ist das auch. Mit Geschichten aus der Bibel lernen ihn die Kinder immer besser kennen. Gemeinsames Singen\, Basteln\, Backen und die kreativen Ideen unseres Jungscharteams gehören ebenfalls dazu. \nWir verbringen viel Zeit in der Natur und erleben dabei allerhand miteinander – bei jedem Wetter. Zieh dich am besten so an\, dass wir jederzeit raus gehen können und bring deine Trinkflasche mit. Alles andere inkl. Jause stellen wir bereit. \nDu bist zwischen 6 und 13 Jahren alt? Dann komm vorbei! Wir freuen uns auf dich und eine spannende Zeit mit dir! \nWir treffen uns jede 2. Woche am Samstagnachmittag von 14 bis 17 Uhr im G3 Mehrzweckgebäude in Dornbirn\, Stiglingen 49a. \nDie nächsten Termine sind: \n25.04.2026\n09.05.2026\n30.05.2026\n20.06.2026 \nFragen? Dann ruf kurz an oder schick uns eine Nachricht. \nKontakt  \nStefan Lanz\nTeamleiter \nT: 0660 2153472\nM: jungschar@feg-dornbirn.at \nDas Angebot ist kostenlos. \n
URL:https://www.cgd.at/termin/jungschar-2026-5/
LOCATION:Österreich
CATEGORIES:Jungschar
ATTACH;FMTTYPE=image/jpeg:https://www.cgd.at/wp-content/uploads/2026/01/Jungschar-Team-2026.jpg
END:VEVENT
BEGIN:VEVENT
DTSTART;TZID=Europe/Berlin:20260412T093000
DTEND;TZID=Europe/Berlin:20260412T110000
DTSTAMP:20260419T132716
CREATED:20260121T035529Z
LAST-MODIFIED:20260121T035529Z
UID:12288-1775986200-1775991600@www.cgd.at
SUMMARY:Alt-Jung-Gottesdienst
DESCRIPTION:Wieder mal eine laute und fröhliche Feier mit der ganzen Gemeinde. \n  \n  \n  \n  \n
URL:https://www.cgd.at/termin/alt-jung-gottesdienst-5/
LOCATION:Höchsterstraße 30\, Dornbirn\, 6850\, Österreich
CATEGORIES:Alt-Jung Gottesdienst
ATTACH;FMTTYPE=image/jpeg:https://www.cgd.at/wp-content/uploads/2022/12/Alt-und-Jung-Bild.jpeg
END:VEVENT
BEGIN:VEVENT
DTSTART;TZID=Europe/Berlin:20260418T180000
DTEND;TZID=Europe/Berlin:20260418T220000
DTSTAMP:20260419T132716
CREATED:20260121T021023Z
LAST-MODIFIED:20260227T034115Z
UID:12228-1776535200-1776549600@www.cgd.at
SUMMARY:Jugendgruppe
DESCRIPTION:Wir treffen uns alle 2 Wochen zum Leben teilen\, Spaß haben\, einander und Gott besser kennen zu lernen. Sei dabei\, wir freuen uns auf Dich! \nWenn Du nichts mit verstaubter\, theoretischer Religion anfangen kannst\, bist Du bei uns genau richtig! Weil: Jesus redet nicht von Religion\, sondern behauptet\, dass er selbst DAS LEBEN ist und fordert uns heraus\, bei ihm DAS Leben zu finden (sozusagen ist das Leben ohne ihn ein Bluff). Was meint er damit und wie schaut das aus? Diesen und anderen Fragen wollen wir zusammen auf den Grund gehen. \nAb 13 Jahren \nFragen? Dann ruf kurz an oder schick uns eine Nachricht: \nGeorg Hämmerle\, Tel. +43 (0)660 5495203 \n  \n \n  \n  \n  \n
URL:https://www.cgd.at/termin/jugendgruppe-61/
CATEGORIES:Jugend
ATTACH;FMTTYPE=image/jpeg:https://www.cgd.at/wp-content/uploads/2026/01/Bild-HP-CGD-Jugend-2026.jpg
END:VEVENT
BEGIN:VEVENT
DTSTART;TZID=Europe/Berlin:20260419T093000
DTEND;TZID=Europe/Berlin:20260419T110000
DTSTAMP:20260419T132716
CREATED:20260121T033514Z
LAST-MODIFIED:20260121T033514Z
UID:12291-1776591000-1776596400@www.cgd.at
SUMMARY:Gottesdienst
DESCRIPTION:Gottesdienstleitung: Wolfgang P. \nPredigt: Stephan P. \n  \n  \n  \n  \n  \n
URL:https://www.cgd.at/termin/gottesdienst-309/
LOCATION:Höchsterstraße 30\, Dornbirn\, 6850\, Österreich
CATEGORIES:Gottesdienst
ATTACH;FMTTYPE=image/jpeg:https://www.cgd.at/wp-content/uploads/2026/01/Chroniken-der-Hoffnung-quer2.jpeg
END:VEVENT
BEGIN:VEVENT
DTSTART;TZID=Europe/Berlin:20260425T140000
DTEND;TZID=Europe/Berlin:20260425T170000
DTSTAMP:20260419T132716
CREATED:20260227T030334Z
LAST-MODIFIED:20260227T030334Z
UID:12337-1777125600-1777136400@www.cgd.at
SUMMARY:Jungschar 2026
DESCRIPTION:Jungschar ist spitze! Und unser Gott ist das auch. Mit Geschichten aus der Bibel lernen ihn die Kinder immer besser kennen. Gemeinsames Singen\, Basteln\, Backen und die kreativen Ideen unseres Jungscharteams gehören ebenfalls dazu. \nWir verbringen viel Zeit in der Natur und erleben dabei allerhand miteinander – bei jedem Wetter. Zieh dich am besten so an\, dass wir jederzeit raus gehen können und bring deine Trinkflasche mit. Alles andere inkl. Jause stellen wir bereit. \nDu bist zwischen 6 und 13 Jahren alt? Dann komm vorbei! Wir freuen uns auf dich und eine spannende Zeit mit dir! \nWir treffen uns jede 2. Woche am Samstagnachmittag von 14 bis 17 Uhr im G3 Mehrzweckgebäude in Dornbirn\, Stiglingen 49a. \nDie nächsten Termine sind: \n09.05.2026\n30.05.2026\n20.06.2026 \nFragen? Dann ruf kurz an oder schick uns eine Nachricht. \nKontakt  \nStefan Lanz\nTeamleiter \nT: 0660 2153472\nM: jungschar@feg-dornbirn.at \nDas Angebot ist kostenlos. \n
URL:https://www.cgd.at/termin/jungschar-2026-6/
LOCATION:Österreich
CATEGORIES:Jungschar
ATTACH;FMTTYPE=image/jpeg:https://www.cgd.at/wp-content/uploads/2026/01/Jungschar-Team-2026.jpg
END:VEVENT
BEGIN:VEVENT
DTSTART;TZID=Europe/Berlin:20260426T093000
DTEND;TZID=Europe/Berlin:20260426T110000
DTSTAMP:20260419T132716
CREATED:20260121T033639Z
LAST-MODIFIED:20260121T033639Z
UID:12293-1777195800-1777201200@www.cgd.at
SUMMARY:Gottesdienst
DESCRIPTION:Gottesdienstleitung: Renata M. \nPredigt: Dieter K. \n  \n  \n  \n  \n
URL:https://www.cgd.at/termin/gottesdienst-310/
LOCATION:Höchsterstraße 30\, Dornbirn\, 6850\, Österreich
CATEGORIES:Gottesdienst
ATTACH;FMTTYPE=image/jpeg:https://www.cgd.at/wp-content/uploads/2026/01/Chroniken-der-Hoffnung-quer2.jpeg
END:VEVENT
END:VCALENDAR