BEGIN:VCALENDAR
VERSION:2.0
PRODID:-//CGD Dornbirn - ECPv4.6.17//NONSGML v1.0//EN
CALSCALE:GREGORIAN
METHOD:PUBLISH
X-WR-CALNAME:CGD Dornbirn
X-ORIGINAL-URL:https://www.cgd.at
X-WR-CALDESC:Veranstaltungen für CGD Dornbirn
BEGIN:VEVENT
DTSTART;TZID=Europe/Berlin:20170115T093000
DTEND;TZID=Europe/Berlin:20170115T110000
DTSTAMP:20260421T192254
CREATED:20170102T111408Z
LAST-MODIFIED:20170102T111408Z
UID:7929-1484472600-1484478000@www.cgd.at
SUMMARY:Gottesdienst mit Kindersegnung
DESCRIPTION:Kindersegnungsgottesdienst mit einer Predigt von Stephan P. \nModeration: Dieter K. \n
URL:https://www.cgd.at/termin/gottesdienst-mit-kindersegnung/
LOCATION:Höchsterstraße 30\, Dornbirn\, 6850\, Österreich
CATEGORIES:Gottesdienst
ATTACH;FMTTYPE=image/jpeg:https://www.cgd.at/wp-content/uploads/2016/06/gottesdienst.jpg
END:VEVENT
END:VCALENDAR