BEGIN:VCALENDAR
VERSION:2.0
PRODID:-//CGD Dornbirn - ECPv4.6.17//NONSGML v1.0//EN
CALSCALE:GREGORIAN
METHOD:PUBLISH
X-WR-CALNAME:CGD Dornbirn
X-ORIGINAL-URL:https://www.cgd.at
X-WR-CALDESC:Veranstaltungen für CGD Dornbirn
BEGIN:VEVENT
DTSTART;TZID=Europe/Berlin:20170625T093000
DTEND;TZID=Europe/Berlin:20170625T110000
DTSTAMP:20260421T122621
CREATED:20170617T101606Z
LAST-MODIFIED:20170617T101606Z
UID:7978-1498383000-1498388400@www.cgd.at
SUMMARY:Gottesdienst
DESCRIPTION:Gottesdienst mit einer Predigt von Dieter K. über Röm 9-10. \nModeration: Leo S. \n
URL:https://www.cgd.at/termin/gottesdienst-42/
LOCATION:Höchsterstraße 30\, Dornbirn\, 6850\, Österreich
CATEGORIES:Gottesdienst
ATTACH;FMTTYPE=image/jpeg:https://www.cgd.at/wp-content/uploads/2016/06/gottesdienst.jpg
END:VEVENT
END:VCALENDAR