BEGIN:VCALENDAR
VERSION:2.0
PRODID:-//CGD Dornbirn - ECPv4.6.17//NONSGML v1.0//EN
CALSCALE:GREGORIAN
METHOD:PUBLISH
X-WR-CALNAME:CGD Dornbirn
X-ORIGINAL-URL:https://www.cgd.at
X-WR-CALDESC:Veranstaltungen für CGD Dornbirn
BEGIN:VEVENT
DTSTART;TZID=Europe/Berlin:20170618T093000
DTEND;TZID=Europe/Berlin:20170618T110000
DTSTAMP:20260421T122539
CREATED:20170529T090925Z
LAST-MODIFIED:20170617T101437Z
UID:7974-1497778200-1497783600@www.cgd.at
SUMMARY:Gottesdienst "Anker meiner Seele"
DESCRIPTION:Gottesdienst mit Frank Bosch zum Thema „Anker meiner Seele.“ \nModeration: Stephan P. \n
URL:https://www.cgd.at/termin/gottesdienst-41/
LOCATION:Höchsterstraße 30\, Dornbirn\, 6850\, Österreich
CATEGORIES:Gottesdienst
ATTACH;FMTTYPE=image/jpeg:https://www.cgd.at/wp-content/uploads/2017/05/cgd_anker_1re.jpg
END:VEVENT
END:VCALENDAR