BEGIN:VCALENDAR
VERSION:2.0
PRODID:-//CGD Dornbirn - ECPv4.6.17//NONSGML v1.0//EN
CALSCALE:GREGORIAN
METHOD:PUBLISH
X-WR-CALNAME:CGD Dornbirn
X-ORIGINAL-URL:https://www.cgd.at
X-WR-CALDESC:Veranstaltungen für CGD Dornbirn
BEGIN:VEVENT
DTSTART;TZID=Europe/Berlin:20160626T093000
DTEND;TZID=Europe/Berlin:20160626T110000
DTSTAMP:20260422T050931
CREATED:20160605T120017Z
LAST-MODIFIED:20160606T134840Z
UID:7802-1466933400-1466938800@www.cgd.at
SUMMARY:Gottesdienst
DESCRIPTION:Zeugnisgottesdienst mit verschiedenen Lebens- und Erfahrungsberichten mit Gott. \n
URL:https://www.cgd.at/termin/gottesdienst-4/
LOCATION:Höchsterstraße 30\, Dornbirn\, 6850\, Österreich
CATEGORIES:Gottesdienst
ATTACH;FMTTYPE=image/jpeg:https://www.cgd.at/wp-content/uploads/2016/06/gottesdienst.jpg
END:VEVENT
END:VCALENDAR