BEGIN:VCALENDAR
VERSION:2.0
PRODID:-//CGD Dornbirn - ECPv4.6.17//NONSGML v1.0//EN
CALSCALE:GREGORIAN
METHOD:PUBLISH
X-WR-CALNAME:CGD Dornbirn
X-ORIGINAL-URL:https://www.cgd.at
X-WR-CALDESC:Veranstaltungen für CGD Dornbirn
BEGIN:VEVENT
DTSTART;TZID=Europe/Berlin:20170507T093000
DTEND;TZID=Europe/Berlin:20170507T110000
DTSTAMP:20260421T135326
CREATED:20170425T060018Z
LAST-MODIFIED:20170425T060214Z
UID:7960-1494149400-1494154800@www.cgd.at
SUMMARY:Gottesdienst
DESCRIPTION:Gottesdienst mit einer Predigt von Dieter K. über Römer 6:1-14. \nModeration: Wolfgang P. \n
URL:https://www.cgd.at/termin/gottesdienst-37/
LOCATION:Höchsterstraße 30\, Dornbirn\, 6850\, Österreich
CATEGORIES:Gottesdienst
ATTACH;FMTTYPE=image/jpeg:https://www.cgd.at/wp-content/uploads/2016/06/gottesdienst.jpg
END:VEVENT
END:VCALENDAR