BEGIN:VCALENDAR
VERSION:2.0
PRODID:-//CGD Dornbirn - ECPv4.6.17//NONSGML v1.0//EN
CALSCALE:GREGORIAN
METHOD:PUBLISH
X-WR-CALNAME:CGD Dornbirn
X-ORIGINAL-URL:https://www.cgd.at
X-WR-CALDESC:Veranstaltungen für CGD Dornbirn
BEGIN:VEVENT
DTSTART;TZID=Europe/Berlin:20170319T093000
DTEND;TZID=Europe/Berlin:20170319T110000
DTSTAMP:20260421T163056
CREATED:20170302T080607Z
LAST-MODIFIED:20170302T080607Z
UID:7946-1489915800-1489921200@www.cgd.at
SUMMARY:Gottesdienst
DESCRIPTION:Gottesdienst mit einer Predigt von Gastprediger Peter B. über 1. Petrusbrief 1:3-12. \nModeration: Hannes L. \n
URL:https://www.cgd.at/termin/gottesdienst-31/
LOCATION:Höchsterstraße 30\, Dornbirn\, 6850\, Österreich
CATEGORIES:Gottesdienst
ATTACH;FMTTYPE=image/jpeg:https://www.cgd.at/wp-content/uploads/2016/06/gottesdienst.jpg
END:VEVENT
END:VCALENDAR