BEGIN:VCALENDAR
VERSION:2.0
PRODID:-//CGD Dornbirn - ECPv4.6.17//NONSGML v1.0//EN
CALSCALE:GREGORIAN
METHOD:PUBLISH
X-WR-CALNAME:CGD Dornbirn
X-ORIGINAL-URL:https://www.cgd.at
X-WR-CALDESC:Veranstaltungen für CGD Dornbirn
BEGIN:VEVENT
DTSTART;TZID=Europe/Berlin:20160619T093000
DTEND;TZID=Europe/Berlin:20160619T110000
DTSTAMP:20260422T050924
CREATED:20160605T115943Z
LAST-MODIFIED:20160606T134708Z
UID:7801-1466328600-1466334000@www.cgd.at
SUMMARY:Gottesdienst
DESCRIPTION:Gottesdienst mit einer Predigt von Dieter Kuhn (Hebräer 6\,10-20). \n
URL:https://www.cgd.at/termin/gottesdienst-3/
LOCATION:Höchsterstraße 30\, Dornbirn\, 6850\, Österreich
CATEGORIES:Gottesdienst
ATTACH;FMTTYPE=image/jpeg:https://www.cgd.at/wp-content/uploads/2016/06/gottesdienst.jpg
END:VEVENT
END:VCALENDAR