BEGIN:VCALENDAR
VERSION:2.0
PRODID:-//CGD Dornbirn - ECPv4.6.17//NONSGML v1.0//EN
CALSCALE:GREGORIAN
METHOD:PUBLISH
X-WR-CALNAME:CGD Dornbirn
X-ORIGINAL-URL:https://www.cgd.at
X-WR-CALDESC:Veranstaltungen für CGD Dornbirn
BEGIN:VEVENT
DTSTART;TZID=Europe/Berlin:20240114T093000
DTEND;TZID=Europe/Berlin:20240114T110000
DTSTAMP:20260424T020808
CREATED:20240102T104553Z
LAST-MODIFIED:20240102T104746Z
UID:10787-1705224600-1705230000@www.cgd.at
SUMMARY:Gottesdienst
DESCRIPTION:\n\nDas Lukasevangelium ist wohl das älteste der vier Evangelien. Lukas tritt mit dem Anspruch auf\, einen Tatsachenbericht zu verfassen und die Geschichte von Jesus wahrheitsgemäß wiederzugeben. Er stellt Jesus als machtvollen\, wahren und vollkommenen Menschen dar.  \n\n\nIn den Kapiteln 7 bis 9 macht Jesus deutlich\, dass der Glaube an ihn als den versprochenen Retter und Heiler – unabhängig von der Lebensgeschichte – eine Frage des Vertrauens und der Hingabe ist. Zu seiner Familie von Nachfolgern gehörten auch Frauen\, die miterleben konnten\, wie Jesus Stürme stillte\, ein totes Mädchen auferweckte und die Aussaat von Gottes Wort in menschliche Herzen über materiellen Reichtum stellte. Er sandte seine Jünger aus\, damit sie seinen begonnenen Dienst fortsetzten\, und machte ihnen immer wieder deutlich\, dass sie ihr ganzes Leben dem Reich Gottes unterordnen sollten\, so wir er es auch mit seinem Sterben und Auferstehen vorhatte.\n\n\n\n\n\n
URL:https://www.cgd.at/termin/gottesdienst-231/
LOCATION:Höchsterstraße 30\, Dornbirn\, 6850\, Österreich
CATEGORIES:Gottesdienst
ATTACH;FMTTYPE=image/jpeg:https://www.cgd.at/wp-content/uploads/2023/12/Das-Lukasarchiv-Serie-2-Jesus-begreifen-Titel_16-9.jpeg
END:VEVENT
END:VCALENDAR