BEGIN:VCALENDAR
VERSION:2.0
PRODID:-//CGD Dornbirn - ECPv4.6.17//NONSGML v1.0//EN
CALSCALE:GREGORIAN
METHOD:PUBLISH
X-WR-CALNAME:CGD Dornbirn
X-ORIGINAL-URL:https://www.cgd.at
X-WR-CALDESC:Veranstaltungen für CGD Dornbirn
BEGIN:VEVENT
DTSTART;TZID=Europe/Berlin:20161113T093000
DTEND;TZID=Europe/Berlin:20161113T110000
DTSTAMP:20260421T221551
CREATED:20161024T092020Z
LAST-MODIFIED:20161024T092020Z
UID:7903-1479029400-1479034800@www.cgd.at
SUMMARY:Gottesdienst
DESCRIPTION:Gottesdienst mit einer Predigt von Stephan P. zur Predigtreihe „Frei sein in Christus“ (Galater 5:16-26). \nGottesdienstmoderation: Hannes L. \n
URL:https://www.cgd.at/termin/gottesdienst-20/
LOCATION:Höchsterstraße 30\, Dornbirn\, 6850\, Österreich
CATEGORIES:Gottesdienst
ATTACH;FMTTYPE=image/jpeg:https://www.cgd.at/wp-content/uploads/2016/08/Predigtreihe-Galaterbrief-e1474892608116.jpg
END:VEVENT
END:VCALENDAR