BEGIN:VCALENDAR
VERSION:2.0
PRODID:-//CGD Dornbirn - ECPv4.6.17//NONSGML v1.0//EN
CALSCALE:GREGORIAN
METHOD:PUBLISH
X-WR-CALNAME:CGD Dornbirn
X-ORIGINAL-URL:https://www.cgd.at
X-WR-CALDESC:Veranstaltungen für CGD Dornbirn
BEGIN:VEVENT
DTSTART;TZID=Europe/Berlin:20161023T093000
DTEND;TZID=Europe/Berlin:20161023T110000
DTSTAMP:20260421T233039
CREATED:20160926T121318Z
LAST-MODIFIED:20160926T121318Z
UID:7897-1477215000-1477220400@www.cgd.at
SUMMARY:Gottesdienst
DESCRIPTION:Gottesdienst mit Abendmahl und einer Predigt von Stephan P. über Galater 4:8-31. \n
URL:https://www.cgd.at/termin/gottesdienst-18/
LOCATION:Höchsterstraße 30\, Dornbirn\, 6850\, Österreich
CATEGORIES:Gottesdienst
ATTACH;FMTTYPE=image/jpeg:https://www.cgd.at/wp-content/uploads/2016/08/Predigtreihe-Galaterbrief-e1474892608116.jpg
END:VEVENT
END:VCALENDAR