BEGIN:VCALENDAR
VERSION:2.0
PRODID:-//CGD Dornbirn - ECPv4.6.17//NONSGML v1.0//EN
CALSCALE:GREGORIAN
METHOD:PUBLISH
X-WR-CALNAME:CGD Dornbirn
X-ORIGINAL-URL:https://www.cgd.at
X-WR-CALDESC:Veranstaltungen für CGD Dornbirn
BEGIN:VEVENT
DTSTART;TZID=Europe/Berlin:20161016T093000
DTEND;TZID=Europe/Berlin:20161016T110000
DTSTAMP:20260421T233001
CREATED:20160926T121150Z
LAST-MODIFIED:20160926T121150Z
UID:7896-1476610200-1476615600@www.cgd.at
SUMMARY:Gottesdienst
DESCRIPTION:Gottesdienst mit einer Predigt von Stephan P. über Galater 3:15 – 4:7. \n
URL:https://www.cgd.at/termin/gottesdienst-17/
LOCATION:Höchsterstraße 30\, Dornbirn\, 6850\, Österreich
CATEGORIES:Gottesdienst
ATTACH;FMTTYPE=image/jpeg:https://www.cgd.at/wp-content/uploads/2016/08/Predigtreihe-Galaterbrief-e1474892608116.jpg
END:VEVENT
END:VCALENDAR