BEGIN:VCALENDAR
VERSION:2.0
PRODID:-//CGD Dornbirn - ECPv4.6.17//NONSGML v1.0//EN
CALSCALE:GREGORIAN
METHOD:PUBLISH
X-WR-CALNAME:CGD Dornbirn
X-ORIGINAL-URL:https://www.cgd.at
X-WR-CALDESC:Veranstaltungen für CGD Dornbirn
BEGIN:VEVENT
DTSTART;TZID=Europe/Berlin:20160925T093000
DTEND;TZID=Europe/Berlin:20160925T110000
DTSTAMP:20260422T005747
CREATED:20160827T110211Z
LAST-MODIFIED:20160827T110211Z
UID:7890-1474795800-1474801200@www.cgd.at
SUMMARY:Gottesdienst
DESCRIPTION:Gottesdienst mit einer Predigt von Dieter K. über Galater 2:11-21. \n
URL:https://www.cgd.at/termin/gottesdienst-16/
LOCATION:Höchsterstraße 30\, Dornbirn\, 6850\, Österreich
CATEGORIES:Gottesdienst
ATTACH;FMTTYPE=image/jpeg:https://www.cgd.at/wp-content/uploads/2016/08/Predigtreihe-Galaterbrief-e1474892608116.jpg
END:VEVENT
END:VCALENDAR