BEGIN:VCALENDAR
VERSION:2.0
PRODID:-//CGD Dornbirn - ECPv4.6.17//NONSGML v1.0//EN
CALSCALE:GREGORIAN
METHOD:PUBLISH
X-WR-CALNAME:CGD Dornbirn
X-ORIGINAL-URL:https://www.cgd.at
X-WR-CALDESC:Veranstaltungen für CGD Dornbirn
BEGIN:VEVENT
DTSTART;TZID=Europe/Berlin:20160911T093000
DTEND;TZID=Europe/Berlin:20160911T110000
DTSTAMP:20260422T004904
CREATED:20160827T105905Z
LAST-MODIFIED:20160827T111850Z
UID:7887-1473586200-1473591600@www.cgd.at
SUMMARY:Gottesdienst
DESCRIPTION:Gottesdienst mit einer Predigt von Stephan P. über Galater 1:1-10. \n
URL:https://www.cgd.at/termin/gottesdienst-14/
LOCATION:Höchsterstraße 30\, Dornbirn\, 6850\, Österreich
CATEGORIES:Gottesdienst
ATTACH;FMTTYPE=image/jpeg:https://www.cgd.at/wp-content/uploads/2016/08/Predigtreihe-Galaterbrief-e1474892608116.jpg
END:VEVENT
END:VCALENDAR