BEGIN:VCALENDAR
VERSION:2.0
PRODID:-//CGD Dornbirn - ECPv4.6.17//NONSGML v1.0//EN
CALSCALE:GREGORIAN
METHOD:PUBLISH
X-WR-CALNAME:CGD Dornbirn
X-ORIGINAL-URL:https://www.cgd.at
X-WR-CALDESC:Veranstaltungen für CGD Dornbirn
BEGIN:VEVENT
DTSTART;TZID=Europe/Berlin:20160828T100000
DTEND;TZID=Europe/Berlin:20160828T140000
DTSTAMP:20260424T092244
CREATED:20160721T072145Z
LAST-MODIFIED:20160721T072238Z
UID:7882-1472378400-1472392800@www.cgd.at
SUMMARY:Gemeindetag in Krumbach
DESCRIPTION:Wir feiern einen übergemeindlichen Gottesdienst als Gäste der Christlichen Gemeinde Krumbach mit anschließendem gemeinsamem Grillen. Am Nachmittag können im wunderschönen Bregenzerwald gemeinsame Wanderungen\, Spaziergänge und andere Aktivitäten unternommen werden. \nHinweis: Gottesdienstbeginn ist um 10.00 Uhr. Für das Mittagessen bitte jeder sein Grillgut selber mitbringen. \n
URL:https://www.cgd.at/termin/gemeindetag-in-krumbach/
LOCATION:Dorf 6\, Krumbach\, Vorarlberg\, 6942\, Österreich
CATEGORIES:Gottesdienst
ATTACH;FMTTYPE=image/jpeg:https://www.cgd.at/wp-content/uploads/2016/06/gottesdienst.jpg
END:VEVENT
END:VCALENDAR