BEGIN:VCALENDAR
VERSION:2.0
PRODID:-//CGD Dornbirn - ECPv4.6.17//NONSGML v1.0//EN
CALSCALE:GREGORIAN
METHOD:PUBLISH
X-WR-CALNAME:CGD Dornbirn
X-ORIGINAL-URL:https://www.cgd.at
X-WR-CALDESC:Veranstaltungen für CGD Dornbirn
BEGIN:VEVENT
DTSTART;TZID=Europe/Berlin:20161211T093000
DTEND;TZID=Europe/Berlin:20161211T110000
DTSTAMP:20260421T203810
CREATED:20161127T053012Z
LAST-MODIFIED:20161127T053012Z
UID:7917-1481448600-1481454000@www.cgd.at
SUMMARY:"Ein lang versprochenes Geschenk" (Adventsgottesdienst)
DESCRIPTION:Schon vor sehr langer Zeit hat Gott uns Menschen ein wundervolles Geschenk versprochen! Die Bibel erzählt uns von diesem jahrtausendealten Versprechen\, und davon\, wie Gott es einlöste – an Weihnachten! Wir laden Sie herzlich ein sich mit uns an den Adventsonntagen und am Weihnachtstag über Gottes lang versprochenes und wahrgewordenes Geschenk zu freuen. \nAdventsgottesdienst mit einer Predigt von Stephan P. über Genesis 3:15. \nIm Anschluss an den Gottesdienst gibt es Gelegenheit sich bei Kuchen und Kaffee kennenzulernen und auf die Adventszeit einzustimmen. \nParallel zu den Gottesdiensten gibt es im Eltern-Kind-Zentrum\, das sich im selben Gebäude befindet\, ein altersgerechtes Angebot für Kinder. \n
URL:https://www.cgd.at/termin/ein-lang-versprochenes-geschenk-adventsgottesdienst-3/
LOCATION:Höchsterstraße 30\, Dornbirn\, 6850\, Österreich
CATEGORIES:Gottesdienst
ATTACH;FMTTYPE=image/jpeg:https://www.cgd.at/wp-content/uploads/2016/10/cgd_adventeinladung.jpg
END:VEVENT
END:VCALENDAR